
BEGIN:VCALENDAR
VERSION:2.0
PRODID:-//The New Blackmore Vale Magazine - ECPv6.9.0//NONSGML v1.0//EN
CALSCALE:GREGORIAN
METHOD:PUBLISH
X-ORIGINAL-URL:https://blackmorevale.net
X-WR-CALDESC:Events for The New Blackmore Vale Magazine
REFRESH-INTERVAL;VALUE=DURATION:PT1H
X-Robots-Tag:noindex
X-PUBLISHED-TTL:PT1H
BEGIN:VTIMEZONE
TZID:UTC
BEGIN:STANDARD
TZOFFSETFROM:+0000
TZOFFSETTO:+0000
TZNAME:UTC
DTSTART:20260101T000000
END:STANDARD
END:VTIMEZONE
BEGIN:VEVENT
DTSTART;TZID=UTC:20260606T140000
DTEND;TZID=UTC:20260606T163000
DTSTAMP:20260423T131924
CREATED:20260420T121711Z
LAST-MODIFIED:20260420T121711Z
UID:90671-1780754400-1780763400@blackmorevale.net
SUMMARY:Tarrant Gunville Church Fete
DESCRIPTION:This year’s Tarrant Gunville Fete takes place on Saturday 6th June at 2.15pm in the glorious gardens of historic Gunville Manor. There will be tea and homemade cakes\, produce stall\, Pimm’s station\, bric-a-brac\, books\, bottle tombola\, games and lots more. Izi Styles and Back to the Shack will be performing live. Family fun for all! Sorry no dogs. \nAdult £2.50. Children FREE
URL:https://blackmorevale.net/event/tarrant-gunville-church-fete/
LOCATION:Gunville Manor\, Tarrant Gunville\, Blandford Forum\, DT11 8JP
ATTACH;FMTTYPE=image/webp:https://blackmorevale.net/wp-content/uploads/2026/04/tarrant-gunville-church-fete-june-26.webp
END:VEVENT
END:VCALENDAR