
BEGIN:VCALENDAR
VERSION:2.0
PRODID:-//The New Blackmore Vale Magazine - ECPv6.9.0//NONSGML v1.0//EN
CALSCALE:GREGORIAN
METHOD:PUBLISH
X-ORIGINAL-URL:https://blackmorevale.net
X-WR-CALDESC:Events for The New Blackmore Vale Magazine
REFRESH-INTERVAL;VALUE=DURATION:PT1H
X-Robots-Tag:noindex
X-PUBLISHED-TTL:PT1H
BEGIN:VTIMEZONE
TZID:UTC
BEGIN:STANDARD
TZOFFSETFROM:+0000
TZOFFSETTO:+0000
TZNAME:UTC
DTSTART:20260101T000000
END:STANDARD
END:VTIMEZONE
BEGIN:VEVENT
DTSTART;TZID=UTC:20261017T093000
DTEND;TZID=UTC:20261017T160000
DTSTAMP:20260423T170947
CREATED:20260420T121404Z
LAST-MODIFIED:20260420T121404Z
UID:90668-1792229400-1792252800@blackmorevale.net
SUMMARY:Rebellion and Protest Across Six Centuries
DESCRIPTION:BALH / SDNQ Sherborne Conference at Digby Hall\, Hound Lane\, Sherborne on 17 October 2026.\nA one-day conference\, in association with SDNQ (Somerset and Dorset Notes and Queries)\, exploring how rebellion\, protest and popular resistance have shaped communities\, identities and historical memory across six centuries. From medieval revolt to twentieth-century industrial action\, the programme brings together a distinguished panel of speakers to examine how ordinary people have challenged authority and expressed dissent. Topics range from the Peasants’ Revolt in Somerset to the “Wildcat” strikes of 1912\, and from questions of heritage and memory to broader traditions of protest and resistance. \nSpeakers:\nSteve Carter—The Sufferings of John Coad and the Dorset Rebels\nTim Goodwin—Did power in Dorset change hands during and immediately after the civil war?\nProf. Karen Hunt—Revisiting the Wildcat women of 1912\nProf. Steve Poole—Heritage\, Memory and Rebellion in England and Wales\nProf. Andrew Prescott—The Peasants’ Revolt in Somerset \nTickets\n£25 for non-members\n£20 for BALH and SDNQ members
URL:https://blackmorevale.net/event/rebellion-and-protest-across-six-centuries/
LOCATION:Digby Hall\, Hound Street\, Sherborne
ATTACH;FMTTYPE=image/webp:https://blackmorevale.net/wp-content/uploads/2026/04/rebellion-and-protest-oct-26-scaled.webp
END:VEVENT
BEGIN:VEVENT
DTSTART;TZID=UTC:20261031T100000
DTEND;TZID=UTC:20261031T160000
DTSTAMP:20260423T170947
CREATED:20260113T092150Z
LAST-MODIFIED:20260113T092150Z
UID:89399-1793440800-1793462400@blackmorevale.net
SUMMARY:October Makers Market – Wimborne | Dorset Team
DESCRIPTION:Join us for the October Makers Market in Wimborne showcasing independent makers\, artists and creatives from right across Dorset. \nRun by the Dorset Team\, you will find high quality stalls set across two rooms of the Allendale Centre with over 60 stalls in total. \nExpect a carefully curated mix of crafts and stalls with something for everyone and every budget. \nEvent Details: \n\nOctober Makers Market\nAllendale Centre – Wimborne\nSaturday 31st October 2026\n10am – 4pm\nFREE ENTRY\nAccessible Venue\nOnsite cafe overlooking the river serving hot and cold food and drink all day\nDogs on leads are welcome\n\nFollow Dorset Team for trader announcements and event updates: https://www.facebook.com/dorsetteam
URL:https://blackmorevale.net/event/october-makers-market-wimborne-dorset-team/
LOCATION:Allendale Centre\, Hanham Road\, Wimborne\, BH21 1AS
ATTACH;FMTTYPE=image/webp:https://blackmorevale.net/wp-content/uploads/2026/01/makers-market-feb-26.webp
END:VEVENT
BEGIN:VEVENT
DTSTART;VALUE=DATE:20261205
DTEND;VALUE=DATE:20261207
DTSTAMP:20260423T170947
CREATED:20260113T092538Z
LAST-MODIFIED:20260113T092538Z
UID:89400-1796428800-1796601599@blackmorevale.net
SUMMARY:Christmas Fair – Wimborne | Dorset Team
DESCRIPTION:The Dorset Team Christmas Fair brings together a curated mix of independent makers and small business for a festive weekend of Christmas shopping in Wimborne. \nOrganised by the Dorset Team\, this event brings 60 stalls by local makers each day set across two rooms of the Allendale Centre. \nExpect a wide range of handmade products and different crafts including jewellery\, ceramics\, textiles\, art\, illustrations\, Christmas cards and decorations and much more! \nEvent Details: \n\nDorset Team Christmas Fair\nAllendale Centre – Wimborne\nSaturday 5th and Sunday 6th December 2026\n10am – 4pm\nFREE ENTRY\nAccessible Venue\nOnsite cafe overlooking the river serving hot and cold food and drink all day\nDogs on leads are welcome\n\nFollow Dorset Team for trader announcements and event updates: https://www.facebook.com/dorsetteam
URL:https://blackmorevale.net/event/christmas-fair-wimborne-dorset-team/
LOCATION:Allendale Centre\, Hanham Road\, Wimborne\, BH21 1AS
ATTACH;FMTTYPE=image/webp:https://blackmorevale.net/wp-content/uploads/2026/01/makers-market-feb-26.webp
END:VEVENT
END:VCALENDAR