
BEGIN:VCALENDAR
VERSION:2.0
PRODID:-//The New Blackmore Vale Magazine - ECPv6.9.0//NONSGML v1.0//EN
CALSCALE:GREGORIAN
METHOD:PUBLISH
X-WR-CALNAME:The New Blackmore Vale Magazine
X-ORIGINAL-URL:https://blackmorevale.net
X-WR-CALDESC:Events for The New Blackmore Vale Magazine
REFRESH-INTERVAL;VALUE=DURATION:PT1H
X-Robots-Tag:noindex
X-PUBLISHED-TTL:PT1H
BEGIN:VTIMEZONE
TZID:UTC
BEGIN:STANDARD
TZOFFSETFROM:+0000
TZOFFSETTO:+0000
TZNAME:UTC
DTSTART:20260101T000000
END:STANDARD
END:VTIMEZONE
BEGIN:VEVENT
DTSTART;VALUE=DATE:20260427
DTEND;VALUE=DATE:20260428
DTSTAMP:20260423T235215
CREATED:20260410T103404Z
LAST-MODIFIED:20260410T103404Z
UID:90575-1777248000-1777334399@blackmorevale.net
SUMMARY:The People's Emergency Briefing
DESCRIPTION:Screening & Discussion. \nBook tickets: planetshaftesbury.org/events \nTickets FREE\, donations on the door.
URL:https://blackmorevale.net/event/the-peoples-emergency-briefing/
LOCATION:Shaftesbury Town Hall
ATTACH;FMTTYPE=image/webp:https://blackmorevale.net/wp-content/uploads/2024/10/BV-events-scaled.webp
END:VEVENT
BEGIN:VEVENT
DTSTART;TZID=UTC:20260425T193000
DTEND;TZID=UTC:20260425T213000
DTSTAMP:20260423T235215
CREATED:20260421T073516Z
LAST-MODIFIED:20260421T073516Z
UID:90679-1777145400-1777152600@blackmorevale.net
SUMMARY:Towards the Light - University Music Bournemouth Choir & Orchestra Concert
DESCRIPTION:University Music Bournemouth Choir and Orchestra present ‘Towards the Light’ on Saturday 25th April\, 7.30pm in Christchurch Priory. \nThe Programme includes Ola Gjeilo’s evocative ‘Sunrise Mass’ and Handel’s ‘Dixit Dominus’ alongside the Glazunov ‘Saxophone Concerto’\, performed by outstanding University Music scholar Maddie McCoubrie. \nTickets (£20 or £16) available online https://www.christchurchpriory.org/boxoffice/40593 or at the door.
URL:https://blackmorevale.net/event/towards-the-light-university-music-bournemouth-choir-orchestra-concert/
LOCATION:Christchurch Priory\, Quay Road\, Christchurch\, BH23 1BU
ATTACH;FMTTYPE=image/webp:https://blackmorevale.net/wp-content/uploads/2026/04/towards-the-light-april-26.webp
END:VEVENT
BEGIN:VEVENT
DTSTART;TZID=UTC:20260425T190000
DTEND;TZID=UTC:20260425T220000
DTSTAMP:20260423T235215
CREATED:20260318T103303Z
LAST-MODIFIED:20260318T103303Z
UID:90316-1777143600-1777154400@blackmorevale.net
SUMMARY:Soul and Swing Big Band
DESCRIPTION:Appearing at Sturminster Newton Exchange on the 25th of April. Featuring music by Sinatra… Buble… Aretha… Tina… Buddy Rich… Glenn Miller… Earth Wind and Fire and many more! \nTickets £18
URL:https://blackmorevale.net/event/soul-and-swing-big-band/
LOCATION:Sturminster Newton Exchange Bar\, Old Market Hill\, Sturminster Newton\, Dorset\, DT10 1FH
ATTACH;FMTTYPE=image/webp:https://blackmorevale.net/wp-content/uploads/2024/10/BV-events-scaled.webp
END:VEVENT
BEGIN:VEVENT
DTSTART;TZID=UTC:20260425T143000
DTEND;TZID=UTC:20260425T143000
DTSTAMP:20260423T235215
CREATED:20260410T105423Z
LAST-MODIFIED:20260410T105423Z
UID:90584-1777127400-1777127400@blackmorevale.net
SUMMARY:Jumble Sale
DESCRIPTION:Cakes | Teas | Raffle
URL:https://blackmorevale.net/event/jumble-sale-4/
LOCATION:Buckhorn Weston Hall\, SP8 5HF
ATTACH;FMTTYPE=image/webp:https://blackmorevale.net/wp-content/uploads/2024/10/BV-events-scaled.webp
END:VEVENT
BEGIN:VEVENT
DTSTART;TZID=UTC:20260425T090000
DTEND;TZID=UTC:20260425T140000
DTSTAMP:20260423T235215
CREATED:20260410T103147Z
LAST-MODIFIED:20260410T103147Z
UID:90573-1777107600-1777125600@blackmorevale.net
SUMMARY:The Vintage Bazaar
DESCRIPTION:
URL:https://blackmorevale.net/event/the-vintage-bazaar/
LOCATION:The Cheese & Grain\, Market Yard\, Frome\, BA11 1BE
ATTACH;FMTTYPE=image/webp:https://blackmorevale.net/wp-content/uploads/2026/04/Vintage-Bazaar-5x1-BV-10.04.16.webp
END:VEVENT
BEGIN:VEVENT
DTSTART;TZID=UTC:20260422T190000
DTEND;TZID=UTC:20260422T190000
DTSTAMP:20260423T235215
CREATED:20260401T081231Z
LAST-MODIFIED:20260401T081231Z
UID:90523-1776884400-1776884400@blackmorevale.net
SUMMARY:A CAREER IN RUINS!
DESCRIPTION:Join us on Wed 22 April at 7pm in Fifehead Magdalen Village Hall for an evening with local archaeologist Julian Richards. \nHe’ll share some of the memories from his 55-year career of working with English Heritage at Stonehenge\, as well as his work on TV and radio. \n£8 including refreshments and cake\nAll proceeds to charity \nBooking essential\nPlease email : fifehead.events@gmail.com to book
URL:https://blackmorevale.net/event/a-career-in-ruins/
LOCATION:Fifehead Magdalen Village Hall\, Fifehead Magdalen\, Dorset\, SP8 5RR
ATTACH;FMTTYPE=image/webp:https://blackmorevale.net/wp-content/uploads/2026/04/a-career-in-ruins-april-26.webp
END:VEVENT
BEGIN:VEVENT
DTSTART;TZID=UTC:20260421T130000
DTEND;TZID=UTC:20260421T140000
DTSTAMP:20260423T235215
CREATED:20260318T095749Z
LAST-MODIFIED:20260318T102818Z
UID:90307-1776776400-1776780000@blackmorevale.net
SUMMARY:Henry VIII and the Mary Rose
DESCRIPTION:Played in costume on period instruments\, including replicas of some found on board\, Courtlye Musick tell the story of Henry VIII’s famous ship\, the Mary Rose. \nSixteenth century instrumental music\, including dance music and songs\, sprinkled with history readings.\nPart of St Aldhelm’s Church lunchtime concert series. Refreshments available at the church from midday. \nFree concert with retiring collection. \nMore details at https://courtlyemusick.co.uk
URL:https://blackmorevale.net/event/henry-viii-and-the-mary-rose/
LOCATION:St Aldhelm’s Church\, St Aldhelm's Road\, Branksome\, Poole\, BH13 6BT
ATTACH;FMTTYPE=image/webp:https://blackmorevale.net/wp-content/uploads/2026/03/henry-viii-7-mary-rose-april-26.webp
END:VEVENT
END:VCALENDAR