
BEGIN:VCALENDAR
VERSION:2.0
PRODID:-//The New Blackmore Vale Magazine - ECPv6.9.0//NONSGML v1.0//EN
CALSCALE:GREGORIAN
METHOD:PUBLISH
X-WR-CALNAME:The New Blackmore Vale Magazine
X-ORIGINAL-URL:https://blackmorevale.net
X-WR-CALDESC:Events for The New Blackmore Vale Magazine
REFRESH-INTERVAL;VALUE=DURATION:PT1H
X-Robots-Tag:noindex
X-PUBLISHED-TTL:PT1H
BEGIN:VTIMEZONE
TZID:UTC
BEGIN:STANDARD
TZOFFSETFROM:+0000
TZOFFSETTO:+0000
TZNAME:UTC
DTSTART:20260101T000000
END:STANDARD
END:VTIMEZONE
BEGIN:VEVENT
DTSTART;VALUE=DATE:20261205
DTEND;VALUE=DATE:20261207
DTSTAMP:20260423T233038
CREATED:20260113T092538Z
LAST-MODIFIED:20260113T092538Z
UID:89400-1796428800-1796601599@blackmorevale.net
SUMMARY:Christmas Fair – Wimborne | Dorset Team
DESCRIPTION:The Dorset Team Christmas Fair brings together a curated mix of independent makers and small business for a festive weekend of Christmas shopping in Wimborne. \nOrganised by the Dorset Team\, this event brings 60 stalls by local makers each day set across two rooms of the Allendale Centre. \nExpect a wide range of handmade products and different crafts including jewellery\, ceramics\, textiles\, art\, illustrations\, Christmas cards and decorations and much more! \nEvent Details: \n\nDorset Team Christmas Fair\nAllendale Centre – Wimborne\nSaturday 5th and Sunday 6th December 2026\n10am – 4pm\nFREE ENTRY\nAccessible Venue\nOnsite cafe overlooking the river serving hot and cold food and drink all day\nDogs on leads are welcome\n\nFollow Dorset Team for trader announcements and event updates: https://www.facebook.com/dorsetteam
URL:https://blackmorevale.net/event/christmas-fair-wimborne-dorset-team/
LOCATION:Allendale Centre\, Hanham Road\, Wimborne\, BH21 1AS
ATTACH;FMTTYPE=image/webp:https://blackmorevale.net/wp-content/uploads/2026/01/makers-market-feb-26.webp
END:VEVENT
END:VCALENDAR