
BEGIN:VCALENDAR
VERSION:2.0
PRODID:-//The New Blackmore Vale Magazine - ECPv6.9.0//NONSGML v1.0//EN
CALSCALE:GREGORIAN
METHOD:PUBLISH
X-WR-CALNAME:The New Blackmore Vale Magazine
X-ORIGINAL-URL:https://blackmorevale.net
X-WR-CALDESC:Events for The New Blackmore Vale Magazine
REFRESH-INTERVAL;VALUE=DURATION:PT1H
X-Robots-Tag:noindex
X-PUBLISHED-TTL:PT1H
BEGIN:VTIMEZONE
TZID:UTC
BEGIN:STANDARD
TZOFFSETFROM:+0000
TZOFFSETTO:+0000
TZNAME:UTC
DTSTART:20260101T000000
END:STANDARD
END:VTIMEZONE
BEGIN:VEVENT
DTSTART;VALUE=DATE:20260529
DTEND;VALUE=DATE:20260601
DTSTAMP:20260423T114639
CREATED:20260330T080550Z
LAST-MODIFIED:20260330T080550Z
UID:90502-1780012800-1780271999@blackmorevale.net
SUMMARY:Flower Festival
DESCRIPTION:Church Flower Festival – A celebration of Flowers\, Prose and Poetry \nProse\, Poetry & Pimm’s at 7pm on Fri May 29 \nTeas from 2pm to 4pm on Sat May 30 and Sun May 31 \nDonations welcome for Flower Festival and Pimm’s evening. Small charge for teas on Sat and Sun.
URL:https://blackmorevale.net/event/flower-festival/
LOCATION:St Peter’s Church (Chetnole)\, Chetnole\, DT9 6NU
ATTACH;FMTTYPE=image/webp:https://blackmorevale.net/wp-content/uploads/2026/03/flower-festival-may-26.webp
END:VEVENT
END:VCALENDAR