
BEGIN:VCALENDAR
VERSION:2.0
PRODID:-//The New Blackmore Vale Magazine - ECPv6.9.0//NONSGML v1.0//EN
CALSCALE:GREGORIAN
METHOD:PUBLISH
X-ORIGINAL-URL:https://blackmorevale.net
X-WR-CALDESC:Events for The New Blackmore Vale Magazine
REFRESH-INTERVAL;VALUE=DURATION:PT1H
X-Robots-Tag:noindex
X-PUBLISHED-TTL:PT1H
BEGIN:VTIMEZONE
TZID:UTC
BEGIN:STANDARD
TZOFFSETFROM:+0000
TZOFFSETTO:+0000
TZNAME:UTC
DTSTART:20260101T000000
END:STANDARD
END:VTIMEZONE
BEGIN:VEVENT
DTSTART;VALUE=DATE:20260524
DTEND;VALUE=DATE:20260526
DTSTAMP:20260423T131906
CREATED:20260413T074330Z
LAST-MODIFIED:20260413T074330Z
UID:90619-1779580800-1779753599@blackmorevale.net
SUMMARY:Sydling St. Nicholas Open Gardens
DESCRIPTION:Sydling Open Gardens from 2pm to 6pm on Sunday 24th and Bank Holiday Monday 25th May. \nTickets on sale at the Village Hall from 1.30 pm – only £6 to cover both days\, accompanied under 16s free. \nTea\, delicious cakes and lovely plants on sale in the Village Hall all afternoon – cash or card accepted. \nA lovely day out. No dogs please other than assistance dogs.
URL:https://blackmorevale.net/event/sydling-st-nicholas-open-gardens/
LOCATION:Sydling St Nicholas Village Hall\, Sydling St Nicholas\, Dorchester\, DT2 9NX
ATTACH;FMTTYPE=image/webp:https://blackmorevale.net/wp-content/uploads/2026/04/sydling-st-nicholas-open-gardens-may-26.webp
END:VEVENT
BEGIN:VEVENT
DTSTART;TZID=UTC:20260524T100000
DTEND;TZID=UTC:20260524T160000
DTSTAMP:20260423T131906
CREATED:20260105T095124Z
LAST-MODIFIED:20260105T095124Z
UID:89262-1779616800-1779638400@blackmorevale.net
SUMMARY:Forage\, Feast & formulas: A functional Fungi one day workshop
DESCRIPTION:Join us for an immersive day exploring the fascinating world of medicinal mushrooms. You’ll be welcomed with a nourishing lion’s mane cacao or coffee before diving into the history\, folklore and science behind these powerful fungi\, and their growing role in modern wellbeing. \nLed by Andy from Jurassic Coast Mushrooms\, you’ll learn about native species\, sustainable foraging\, and the incredible benefits of the fungi growing right here in our local landscape. After sampling some delicious mushroom-based treats\, we’ll head into the woods to see what the season has to offer\, learning how to identify\, harvest and work with wild fungi safely and responsibly. \nBack at Happy River\, enjoy a nourishing fungi-inspired lunch before getting hands-on: inoculating your own mushroom log to take home\, learning how to preserve and prepare mushrooms\, and creating your own dual-extracted tincture to support health and vitality. \nA deeply grounding and educational day connecting you to nature\, food\, and the powerful world of fungi. \nEvent cost: £160.
URL:https://blackmorevale.net/event/forage-feast-formulas-a-functional-fungi-one-day-workshop/
LOCATION:Happy River\, Alpha Farm\, Bere Road\, Wareham\, BH20 7PA
ATTACH;FMTTYPE=image/webp:https://blackmorevale.net/wp-content/uploads/2026/01/forage-feast-formulas-may-26.webp
END:VEVENT
BEGIN:VEVENT
DTSTART;TZID=UTC:20260524T103000
DTEND;TZID=UTC:20260524T120000
DTSTAMP:20260423T131906
CREATED:20260414T074426Z
LAST-MODIFIED:20260414T074426Z
UID:90632-1779618600-1779624000@blackmorevale.net
SUMMARY:Choral Eucharist for Pentecost
DESCRIPTION:You are warmly invited to our cathedral-style service of Choral Eucharist for Pentecost on Sunday 24th May at 10.30am in St Peter’s Church\, Dorchester. \nThe music includes: Tallis’s ‘O Lord give thy Holy Spirit’\, Mozart’s ‘Missa brevis in F K.192’ and Grayston Ives’s ‘Listen sweet dove’. \nAll are very welcome to this free service. More information at www.musicatstpetersdorchester.org
URL:https://blackmorevale.net/event/choral-eucharist-for-pentecost/
LOCATION:St Peter’s Church (Dorchester)\, High West Street\, Dorchester\, Dorset\, DT1 1XA
ATTACH;FMTTYPE=image/webp:https://blackmorevale.net/wp-content/uploads/2026/04/choral-eucharist-pentecost-may-26.webp
END:VEVENT
BEGIN:VEVENT
DTSTART;TZID=UTC:20260524T110000
DTEND;TZID=UTC:20260524T163000
DTSTAMP:20260423T131906
CREATED:20260415T073517Z
LAST-MODIFIED:20260415T073517Z
UID:90643-1779620400-1779640200@blackmorevale.net
SUMMARY:TURNWORTH DAY
DESCRIPTION:Come & join us for a wonderful mix of Teas/ Plants/ Family fun/ Pre-loved/ Produce/ Crafts/ Live Music in a large Old Rectory garden.\nFree entry/parking & dogs welcome on leads.Help us raise funds for the constant repairs a Grade 2* church will always need. \nAnd a BIG THANK YOU for all you’ve helped us raise to date – with additional grants from the Dorset Historic Churches Trust & the Erskine Muton Trust – roof & electrical re-wiring projects are expected to get under way this summer. Amazing!
URL:https://blackmorevale.net/event/turnworth-day/
LOCATION:Turnworth\, Blandford Forum\, DT11 0EE
ATTACH;FMTTYPE=image/webp:https://blackmorevale.net/wp-content/uploads/2026/04/turnworth-day-may-26.webp
END:VEVENT
END:VCALENDAR