
BEGIN:VCALENDAR
VERSION:2.0
PRODID:-//The New Blackmore Vale Magazine - ECPv6.9.0//NONSGML v1.0//EN
CALSCALE:GREGORIAN
METHOD:PUBLISH
X-ORIGINAL-URL:https://blackmorevale.net
X-WR-CALDESC:Events for The New Blackmore Vale Magazine
REFRESH-INTERVAL;VALUE=DURATION:PT1H
X-Robots-Tag:noindex
X-PUBLISHED-TTL:PT1H
BEGIN:VTIMEZONE
TZID:UTC
BEGIN:STANDARD
TZOFFSETFROM:+0000
TZOFFSETTO:+0000
TZNAME:UTC
DTSTART:20260101T000000
END:STANDARD
END:VTIMEZONE
BEGIN:VEVENT
DTSTART;VALUE=DATE:20260502
DTEND;VALUE=DATE:20260511
DTSTAMP:20260423T115822
CREATED:20260413T074643Z
LAST-MODIFIED:20260413T074655Z
UID:90623-1777680000-1778457599@blackmorevale.net
SUMMARY:Dorchester Walking Festival 2026
DESCRIPTION:Held during National Walking Month\, this year’s festival promises a truly unforgettable week of walking adventures for all abilities. Once again\, you can look forward to a vibrant programme of varied and inspiring walks\, led by our fantastic team of experienced and knowledgeable volunteer walk leaders. \nThis year is set to be extra special. We’re delighted to welcome several new walk leaders\, bringing with them a selection of brand-new walks that will uncover even more of Dorset’s breath-taking landscapes\, hidden gems\, and rich heritage. From gentle strolls to more energetic routes\, there will be something to delight every walker. \nWe’re also proud to say that the festival will once again be raising funds for local charities. Proceeds from all walks will be donated to charities chosen by our walk leaders. Last year\, thanks to the generosity of our participants\, over 15 local charities benefited — our way of saying a heartfelt thank you to the community we love. \nThe 2026 program offers opportunities to immerse yourselves in history\, follow in the footsteps of local heroes\, and explore the enchanting countryside. Ticket are available for the 2026 festival now. \nEvent cost: £3-£10.
URL:https://blackmorevale.net/event/dorchester-walking-festival-2026/
ATTACH;FMTTYPE=image/webp:https://blackmorevale.net/wp-content/uploads/2024/10/BV-events-scaled.webp
END:VEVENT
BEGIN:VEVENT
DTSTART;TZID=UTC:20260508T110000
DTEND;TZID=UTC:20260508T110000
DTSTAMP:20260423T115822
CREATED:20260318T102943Z
LAST-MODIFIED:20260318T102943Z
UID:90312-1778238000-1778238000@blackmorevale.net
SUMMARY:Dances and Dalliance - open rehearsal
DESCRIPTION:Open rehearsal supporting Dorchester Town Council’s Informal Annual Town Meeting at Dorchester Corn Exchange \nCelebrating twinning between Dorset and Normandy. \nDance leads to dalliance and love—or a broken heart. \nStep back in time with Courtlye Musick and Ars Nova of Cherbourg as we whirl you through affairs of the heart with Tudor and medieval dance music and love songs played in costume on period instruments. \nFree entry \nMore details at https://courtlyemusick.co.uk
URL:https://blackmorevale.net/event/dances-and-dalliance-open-rehearsal/
LOCATION:Dorchester Corn Exchange\, High E St\, Dorchester\, DT1 1HF
ATTACH;FMTTYPE=image/webp:https://blackmorevale.net/wp-content/uploads/2026/03/dances-and-dalliance-rehearsal-may-26.webp
END:VEVENT
BEGIN:VEVENT
DTSTART;TZID=UTC:20260508T190000
DTEND;TZID=UTC:20260508T190000
DTSTAMP:20260423T115822
CREATED:20260318T095924Z
LAST-MODIFIED:20260318T095924Z
UID:90309-1778266800-1778266800@blackmorevale.net
SUMMARY:Dances and Dalliance
DESCRIPTION:Early music concert \nDance leads to dalliance and love—or a broken heart. \nStep back in time with Courtlye Musick and Ars Nova of Cherbourg as we whirl you through affairs of the heart with medieval and Tudor dance music and love songs played in costume on period instruments. \nFree concert with retiring collection.\nIn conjunction with Poole-Cherbourg Twinning Association. \nMore details at https://courtlyemusick.co.uk
URL:https://blackmorevale.net/event/dances-and-dalliance/
LOCATION:St Aldhelms Church Centre\, Weymouth\,\, DT3 5EW
ATTACH;FMTTYPE=image/webp:https://blackmorevale.net/wp-content/uploads/2026/03/dances-and-dalliance-may-26.webp
END:VEVENT
END:VCALENDAR