
BEGIN:VCALENDAR
VERSION:2.0
PRODID:-//The New Blackmore Vale Magazine - ECPv6.9.0//NONSGML v1.0//EN
CALSCALE:GREGORIAN
METHOD:PUBLISH
X-ORIGINAL-URL:https://blackmorevale.net
X-WR-CALDESC:Events for The New Blackmore Vale Magazine
REFRESH-INTERVAL;VALUE=DURATION:PT1H
X-Robots-Tag:noindex
X-PUBLISHED-TTL:PT1H
BEGIN:VTIMEZONE
TZID:UTC
BEGIN:STANDARD
TZOFFSETFROM:+0000
TZOFFSETTO:+0000
TZNAME:UTC
DTSTART:20260101T000000
END:STANDARD
END:VTIMEZONE
BEGIN:VEVENT
DTSTART;VALUE=DATE:20260502
DTEND;VALUE=DATE:20260511
DTSTAMP:20260423T115523
CREATED:20260413T074643Z
LAST-MODIFIED:20260413T074655Z
UID:90623-1777680000-1778457599@blackmorevale.net
SUMMARY:Dorchester Walking Festival 2026
DESCRIPTION:Held during National Walking Month\, this year’s festival promises a truly unforgettable week of walking adventures for all abilities. Once again\, you can look forward to a vibrant programme of varied and inspiring walks\, led by our fantastic team of experienced and knowledgeable volunteer walk leaders. \nThis year is set to be extra special. We’re delighted to welcome several new walk leaders\, bringing with them a selection of brand-new walks that will uncover even more of Dorset’s breath-taking landscapes\, hidden gems\, and rich heritage. From gentle strolls to more energetic routes\, there will be something to delight every walker. \nWe’re also proud to say that the festival will once again be raising funds for local charities. Proceeds from all walks will be donated to charities chosen by our walk leaders. Last year\, thanks to the generosity of our participants\, over 15 local charities benefited — our way of saying a heartfelt thank you to the community we love. \nThe 2026 program offers opportunities to immerse yourselves in history\, follow in the footsteps of local heroes\, and explore the enchanting countryside. Ticket are available for the 2026 festival now. \nEvent cost: £3-£10.
URL:https://blackmorevale.net/event/dorchester-walking-festival-2026/
ATTACH;FMTTYPE=image/webp:https://blackmorevale.net/wp-content/uploads/2024/10/BV-events-scaled.webp
END:VEVENT
BEGIN:VEVENT
DTSTART;VALUE=DATE:20260503
DTEND;VALUE=DATE:20260506
DTSTAMP:20260423T115523
CREATED:20260407T124908Z
LAST-MODIFIED:20260407T125549Z
UID:90540-1777766400-1778025599@blackmorevale.net
SUMMARY:Art in The Square
DESCRIPTION:ART in the SQUARE… bringing art outside for all to enjoy! \nTalented artists come together to showcase their amazing skills! \nCome along and enjoy the relaxed atmosphere of our unique outdoor arts events in the beautiful surrounding of the Market Square in the heart of our city. \nArtists from Salisbury and the surrounding area set up their ‘galleries for the day’ to showcase their fabulous work on the first Sunday of the month from March to December. \nMeet the artists! Chat to them about their style of art and love for what they create. Enjoy the best Barista Style coffee and homemade treats in Salisbury; all enhanced with wonderful Live Music from our local musicians. \nHave a Go! Try your hand with guidance from one of our talented artists. Pop along and have a go… you may just surprise yourself! All ages and abilities welcome. Paints\, paper and brushes provided. Only £5 each. \nSo if you’re an art lover\, or if you’re looking for a unique gift for someone special\, or a visitor to the city wanting to chat to some of its artists\, or would like to have a go\, this hugely popular event will provide the perfect opportunity. \nTake part! Professional and amateur artists\, those just starting out\, students and graduates are all welcome to exhibit their artwork. To take part visit our website for full details via the Take Part pages. Simply Register and we will be in touch. \nVisit our website for full event details and to see the artists taking part each month. And take a look at the Gallery page for images from past events. \nIt’s a great day out for all art lovers and we look forward to welcoming you!
URL:https://blackmorevale.net/event/art-in-the-square-2/
LOCATION:Salisbury Market Square\, Salisbury\, SP1 1JH
ATTACH;FMTTYPE=image/webp:https://blackmorevale.net/wp-content/uploads/2026/04/art-in-the-square-may-26.webp
END:VEVENT
END:VCALENDAR