
BEGIN:VCALENDAR
VERSION:2.0
PRODID:-//The New Blackmore Vale Magazine - ECPv6.9.0//NONSGML v1.0//EN
CALSCALE:GREGORIAN
METHOD:PUBLISH
X-ORIGINAL-URL:https://blackmorevale.net
X-WR-CALDESC:Events for The New Blackmore Vale Magazine
REFRESH-INTERVAL;VALUE=DURATION:PT1H
X-Robots-Tag:noindex
X-PUBLISHED-TTL:PT1H
BEGIN:VTIMEZONE
TZID:UTC
BEGIN:STANDARD
TZOFFSETFROM:+0000
TZOFFSETTO:+0000
TZNAME:UTC
DTSTART:20260101T000000
END:STANDARD
END:VTIMEZONE
BEGIN:VEVENT
DTSTART;VALUE=DATE:20260427
DTEND;VALUE=DATE:20260428
DTSTAMP:20260423T120349
CREATED:20260410T103404Z
LAST-MODIFIED:20260410T103404Z
UID:90575-1777248000-1777334399@blackmorevale.net
SUMMARY:The People's Emergency Briefing
DESCRIPTION:Screening & Discussion. \nBook tickets: planetshaftesbury.org/events \nTickets FREE\, donations on the door.
URL:https://blackmorevale.net/event/the-peoples-emergency-briefing/
LOCATION:Shaftesbury Town Hall
ATTACH;FMTTYPE=image/webp:https://blackmorevale.net/wp-content/uploads/2024/10/BV-events-scaled.webp
END:VEVENT
END:VCALENDAR